BEGIN:VCALENDAR
VERSION:2.0
PRODID:-//www.adoptionnetwork.org//NONSGML kigkonsult.se iCalcreator 2.30.1
 0//
CALSCALE:GREGORIAN
METHOD:PUBLISH
UID:1e2b3c9b-b2a6-4556-8c61-f401d1c98476
X-WR-CALDESC:Adoption Network Cleveland’s General Discussion Meetings provi
 de an opportunity for all those who are impacted by adoption to share thei
 r perspectives and learn from each other. \n\nThis particular meeting will
  have a special topic:  Belonging to Two Families - How Adoptees Find a Ba
 lance \nThis meeting will discuss and explore loyalty issues adoptees may 
 face as a member of both their adoptive and birth families and learn about
  the impact of this challenge from the perspective of each triad member in
 volved. Attendees can also learn strategies to handle the stress related t
 o finding a balance in belonging to two families.  \n\nThis meeting will b
 e a virtual meeting facilitated by Linda and Elaine. Our Virtual General D
 iscussion Meetings meet via the Google Meet platform (which can be accesse
 d through a home computer/laptop\, tablet\, or mobile phone) and will requ
 ire an internet connection or phone data connection. \n\nPre-registration 
 is required. Click REGISTER NOW\, enter the number of attendees\, your inf
 ormation\, and then click COMPLETE REGISTRATION.\n\nOur General Discussion
  Meetings with specific topics fill up quickly. Space is limited to ensure
  a reasonable number of participants to engage in discussion\, so please r
 egister in advance. We keep a waiting list once we meet the registration l
 imit\, so if you are registered and unable to attend\, please let us know 
 so we can open that spot up for someone else.\n\nIf registration has reach
 ed capacity and you would like to be placed on the waiting list\, please e
 mail Deb Wentz at Deborah.wentz@adoptionnetwork.org with the date of the e
 vent and a request to be placed on the waiting list. Thank you!\n
X-WR-RELCALID:c8384acf69d6b34877cdf1738c301def
X-WR-TIMEZONE:America/New_York
BEGIN:VTIMEZONE
TZID:America/New_York
BEGIN:STANDARD
TZNAME:EST
DTSTART:20201101T020000
TZOFFSETFROM:-0400
TZOFFSETTO:-0500
RDATE:20211107T020000
RDATE:20221106T020000
END:STANDARD
BEGIN:DAYLIGHT
TZNAME:EDT
DTSTART:20210314T020000
TZOFFSETFROM:-0500
TZOFFSETTO:-0400
RDATE:20220313T020000
END:DAYLIGHT
END:VTIMEZONE
BEGIN:VEVENT
UID:09c6caab-0f8b-4d93-bc4b-1cc2b2641a3f
DTSTAMP:20260421T175532Z
DESCRIPTION:Adoption Network Cleveland’s General Discussion Meetings provid
 e an opportunity for all those who are impacted by adoption to share their
  perspectives and learn from each other. \n\nThis particular meeting will 
 have a special topic:  Belonging to Two Families - How Adoptees Find a Bal
 ance \nThis meeting will discuss and explore loyalty issues adoptees may f
 ace as a member of both their adoptive and birth families and learn about 
 the impact of this challenge from the perspective of each triad member inv
 olved. Attendees can also learn strategies to handle the stress related to
  finding a balance in belonging to two families.  \n\nThis meeting will be
  a virtual meeting facilitated by Linda and Elaine. Our Virtual General Di
 scussion Meetings meet via the Google Meet platform (which can be accessed
  through a home computer/laptop\, tablet\, or mobile phone) and will requi
 re an internet connection or phone data connection. \n\nPre-registration i
 s required. Click REGISTER NOW\, enter the number of attendees\, your info
 rmation\, and then click COMPLETE REGISTRATION.\n\nOur General Discussion 
 Meetings with specific topics fill up quickly. Space is limited to ensure 
 a reasonable number of participants to engage in discussion\, so please re
 gister in advance. We keep a waiting list once we meet the registration li
 mit\, so if you are registered and unable to attend\, please let us know s
 o we can open that spot up for someone else.\n\nIf registration has reache
 d capacity and you would like to be placed on the waiting list\, please em
 ail Deb Wentz at Deborah.wentz@adoptionnetwork.org with the date of the ev
 ent and a request to be placed on the waiting list. Thank you!\n
DTSTART;TZID=America/New_York:20210902T190000
DTEND;TZID=America/New_York:20210902T210000
LOCATION:Virtual Meeting using Google Meets
SUMMARY:VIRTUAL General Meeting (led by Linda/Elaine)
END:VEVENT
END:VCALENDAR
