BEGIN:VCALENDAR
VERSION:2.0
PRODID:-//www.adoptionnetwork.org//NONSGML kigkonsult.se iCalcreator 2.30.1
 0//
CALSCALE:GREGORIAN
METHOD:PUBLISH
UID:b4f1f673-d1dd-4b14-bb29-3d8cc603cc41
X-WR-CALDESC:Wednesday\, September 8\, 2021\, 6-9 pm\nSupport Resources for
  Caregivers of children with Special Needs #983-32\nTrainer:  Ronna Johnso
 n\n\nTo register: private agency foster parents should have their agency w
 orker contact Nefertiti McKinney at (216) 881-4048\; public agency foster 
 parents should register online at the OCWTP website\; adoptive and kinship
  parents can contact Julius Jackson directly.
X-WR-RELCALID:9cb164b1c92f175f8c2581fe8c99c4d6
X-WR-TIMEZONE:America/New_York
BEGIN:VTIMEZONE
TZID:America/New_York
BEGIN:STANDARD
TZNAME:EST
DTSTART:20201101T020000
TZOFFSETFROM:-0400
TZOFFSETTO:-0500
RDATE:20211107T020000
RDATE:20221106T020000
END:STANDARD
BEGIN:DAYLIGHT
TZNAME:EDT
DTSTART:20210314T020000
TZOFFSETFROM:-0500
TZOFFSETTO:-0400
RDATE:20220313T020000
END:DAYLIGHT
END:VTIMEZONE
BEGIN:VEVENT
UID:8cc041fd-7c30-4664-bc86-1be2f2cda9ab
DTSTAMP:20260421T170015Z
DESCRIPTION:Wednesday\, September 8\, 2021\, 6-9 pm\nSupport Resources for 
 Caregivers of children with Special Needs #983-32\nTrainer:  Ronna Johnson
 \n\nTo register: private agency foster parents should have their agency wo
 rker contact Nefertiti McKinney at (216) 881-4048\; public agency foster p
 arents should register online at the OCWTP website\; adoptive and kinship 
 parents can contact Julius Jackson directly.
DTSTART;TZID=America/New_York:20210908T180000
DTEND;TZID=America/New_York:20210908T210000
LOCATION:4614 Prospect Avenue\, Adoption Network Cleveland\, Ste. 550\, Cle
 veland\, OH 44103 US
SUMMARY:Parent Training - Support Resources for Caregivers of children with
  Special Needs (#983-32)
END:VEVENT
END:VCALENDAR
