BEGIN:VCALENDAR
VERSION:2.0
PRODID:-//www.adoptionnetwork.org//NONSGML kigkonsult.se iCalcreator 2.30.1
 0//
CALSCALE:GREGORIAN
METHOD:PUBLISH
UID:c972c4ac-91a1-42c6-a14f-6ec123699449
X-WR-CALDESC:Mark Hagland\, author of Extraordinary Journey: The Lifelong P
 ath of the Transracial Adoptee\, will share his perspectives on the ongoin
 g discourse around transracial adoption in the transracial adoption world\
 , from the standpoint of an adult transracial and international adoptee. H
 e wrote Extraordinary Journey in order to help all the stakeholders around
  transracial adoption to sort through many of the key issues facing transr
 acial adoptees\, their parents and families\, and everyone else. He contin
 ues to share his perspectives online and in person\, out of a sense of mis
 sion around education\, especially around race and racism.\n\nAbout Mark H
 agland\nMark Hagland was born in South Korea in 1960 and raised by America
 n parents of Norwegian and German descent. He has been active in forums ar
 ound transracial adoption both in person and online\, for over two decades
 . He has contributed to team-written anthologies by adult transracial adop
 tees\, including Parenting As Adoptees\, Outsiders Within\, and The Unknow
 n Culture Club. Earlier this year\, he self-published Extraordinary Journe
 y: The Lifelong Path of the Transracial Adoptee. In his professional life\
 , he is a health care journalist. He lives in Chicago.
X-WR-RELCALID:6d80467f16a4fda2b3c5acab4ec13cd8
X-WR-TIMEZONE:America/New_York
BEGIN:VTIMEZONE
TZID:America/New_York
BEGIN:STANDARD
TZNAME:EST
DTSTART:20201101T020000
TZOFFSETFROM:-0400
TZOFFSETTO:-0500
RDATE:20211107T020000
RDATE:20221106T020000
END:STANDARD
BEGIN:DAYLIGHT
TZNAME:EDT
DTSTART:20210314T020000
TZOFFSETFROM:-0500
TZOFFSETTO:-0400
RDATE:20220313T020000
RDATE:20230312T020000
END:DAYLIGHT
END:VTIMEZONE
BEGIN:VEVENT
UID:c3bbca7a-5561-41f0-b720-a043b09ae695
DTSTAMP:20260421T175814Z
DESCRIPTION:Mark Hagland\, author of Extraordinary Journey: The Lifelong Pa
 th of the Transracial Adoptee\, will share his perspectives on the ongoing
  discourse around transracial adoption in the transracial adoption world\,
  from the standpoint of an adult transracial and international adoptee. He
  wrote Extraordinary Journey in order to help all the stakeholders around 
 transracial adoption to sort through many of the key issues facing transra
 cial adoptees\, their parents and families\, and everyone else. He continu
 es to share his perspectives online and in person\, out of a sense of miss
 ion around education\, especially around race and racism.\n\nAbout Mark Ha
 gland\nMark Hagland was born in South Korea in 1960 and raised by American
  parents of Norwegian and German descent. He has been active in forums aro
 und transracial adoption both in person and online\, for over two decades.
  He has contributed to team-written anthologies by adult transracial adopt
 ees\, including Parenting As Adoptees\, Outsiders Within\, and The Unknown
  Culture Club. Earlier this year\, he self-published Extraordinary Journey
 : The Lifelong Path of the Transracial Adoptee. In his professional life\,
  he is a health care journalist. He lives in Chicago.
DTSTART;TZID=America/New_York:20210920T200000
DTEND;TZID=America/New_York:20210920T210000
LOCATION:Virtual using Zoom
SUMMARY:The Lifelong Journey of the Transracial Adoptee: Perspectives from 
 One Adult Transracial Adoptee Leader - Monday Evening Speaker Series
END:VEVENT
END:VCALENDAR
