BEGIN:VCALENDAR
VERSION:2.0
PRODID:-//www.adoptionnetwork.org//NONSGML kigkonsult.se iCalcreator 2.30.1
 0//
CALSCALE:GREGORIAN
METHOD:PUBLISH
UID:63d0052b-9d92-4e6c-8330-46d5582eb688
X-WR-CALDESC:Expanding on the Adoption 101:  Where Do I Begin Workshop\, th
 is 2-hour workshop explores more details for those looking to consider a d
 omestic infant adoption.\n\nDue to current safety guidelines from the stat
 e of Ohio\, this workshop will be offered virtually using Zoom. This virtu
 al meeting platform can be accessed through a home computer/laptop\, table
 t\, or mobile phone) and will require an internet connection or phone data
  connection. Zoom is free to use for participants.\n\nMember cost: $15 per
  person and $25 per couple\nNon-member cost: $20 per person and $35 per co
 uple\nA $5 surcharge is added if payment is the same day as the workshop.
X-WR-RELCALID:e20f00a82c6e09a2e8a537c2667af845
X-WR-TIMEZONE:America/New_York
BEGIN:VTIMEZONE
TZID:America/New_York
BEGIN:STANDARD
TZNAME:EST
DTSTART:20201101T020000
TZOFFSETFROM:-0400
TZOFFSETTO:-0500
RDATE:20211107T020000
RDATE:20221106T020000
END:STANDARD
BEGIN:DAYLIGHT
TZNAME:EDT
DTSTART:20210314T020000
TZOFFSETFROM:-0500
TZOFFSETTO:-0400
RDATE:20220313T020000
RDATE:20230312T020000
END:DAYLIGHT
END:VTIMEZONE
BEGIN:VEVENT
UID:e3fa0814-bfc6-430e-8334-40beb7936adf
DTSTAMP:20260421T180136Z
DESCRIPTION:Expanding on the Adoption 101:  Where Do I Begin Workshop\, thi
 s 2-hour workshop explores more details for those looking to consider a do
 mestic infant adoption.\n\nDue to current safety guidelines from the state
  of Ohio\, this workshop will be offered virtually using Zoom. This virtua
 l meeting platform can be accessed through a home computer/laptop\, tablet
 \, or mobile phone) and will require an internet connection or phone data 
 connection. Zoom is free to use for participants.\n\nMember cost: $15 per 
 person and $25 per couple\nNon-member cost: $20 per person and $35 per cou
 ple\nA $5 surcharge is added if payment is the same day as the workshop.
DTSTART;TZID=America/New_York:20210922T180000
DTEND;TZID=America/New_York:20210922T200000
LOCATION:Online using Google Meet
SUMMARY:VIRTUAL - Adoption 201: Adopting Infants Domestically
END:VEVENT
END:VCALENDAR
