BEGIN:VCALENDAR
VERSION:2.0
PRODID:-//www.adoptionnetwork.org//NONSGML kigkonsult.se iCalcreator 2.30.1
 0//
CALSCALE:GREGORIAN
METHOD:PUBLISH
UID:caaef951-4fbb-4607-9fb3-80c866a1df5c
X-WR-CALDESC:Join us as we check out the sites\, nature centers\, trails\, 
 and wildlife in our beautiful Metropark system!\n\nMeet at the main entran
 ce of Horseshoe Lake Park at 2701 Park Dr\, Shaker Heights\n \nCall or ema
 il Donikea Austin\, Program Manager\, with any questions. \n
X-WR-RELCALID:00a6fd8a637bb5c4fb441a88702455ab
X-WR-TIMEZONE:America/New_York
BEGIN:VTIMEZONE
TZID:America/New_York
BEGIN:STANDARD
TZNAME:EST
DTSTART:20201101T020000
TZOFFSETFROM:-0400
TZOFFSETTO:-0500
RDATE:20211107T020000
RDATE:20221106T020000
END:STANDARD
BEGIN:DAYLIGHT
TZNAME:EDT
DTSTART:20210314T020000
TZOFFSETFROM:-0500
TZOFFSETTO:-0400
RDATE:20220313T020000
RDATE:20230312T020000
END:DAYLIGHT
END:VTIMEZONE
BEGIN:VEVENT
UID:bb2de79b-e4eb-4a17-89f8-ccffa7925394
DTSTAMP:20260423T091837Z
DESCRIPTION:Join us as we check out the sites\, nature centers\, trails\, a
 nd wildlife in our beautiful Metropark system!\n\nMeet at the main entranc
 e of Horseshoe Lake Park at 2701 Park Dr\, Shaker Heights\n \nCall or emai
 l Donikea Austin\, Program Manager\, with any questions. \n
DTSTART;TZID=America/New_York:20210925T110000
DTEND;TZID=America/New_York:20210925T120000
LOCATION:Horseshoe Lake Park\, 2701 Park Dr\, \, Shaker Heights\, OH 44120 
 US
SUMMARY:Family Ties Park Pals - Horseshoe Lake Park (In-Person)
END:VEVENT
END:VCALENDAR
