BEGIN:VCALENDAR
VERSION:2.0
PRODID:-//www.adoptionnetwork.org//NONSGML kigkonsult.se iCalcreator 2.30.1
 0//
CALSCALE:GREGORIAN
METHOD:PUBLISH
UID:f83642a3-bd09-43fe-b7ad-f69ad972cdaf
X-WR-CALDESC:Adoption Network Cleveland’s General Discussion Meetings provi
 de an opportunity for all those who are impacted by adoption to share thei
 r perspectives and learn from each other. \n\nThis meeting will be a virtu
 al meeting facilitated by Marni and Mindy. Our Virtual General Discussion 
 Meetings meet via the Google Meet platform (which can be accessed through 
 a home computer/laptop\, tablet\, or mobile phone) and will require an int
 ernet connection or phone data connection. \n\nPre-registration is require
 d. Click REGISTER NOW\, enter the number of attendees\, your information\,
  and then click COMPLETE REGISTRATION.\n\n
X-WR-RELCALID:4cb5be30beff5fb553a5811352e06468
X-WR-TIMEZONE:America/New_York
BEGIN:VTIMEZONE
TZID:America/New_York
BEGIN:STANDARD
TZNAME:EST
DTSTART:20201101T020000
TZOFFSETFROM:-0400
TZOFFSETTO:-0500
RDATE:20211107T020000
RDATE:20221106T020000
END:STANDARD
BEGIN:DAYLIGHT
TZNAME:EDT
DTSTART:20210314T020000
TZOFFSETFROM:-0500
TZOFFSETTO:-0400
RDATE:20220313T020000
RDATE:20230312T020000
END:DAYLIGHT
END:VTIMEZONE
BEGIN:VEVENT
UID:92789c9a-33d8-497c-9d32-c5995c96cafe
DTSTAMP:20260421T161630Z
DESCRIPTION:Adoption Network Cleveland’s General Discussion Meetings provid
 e an opportunity for all those who are impacted by adoption to share their
  perspectives and learn from each other. \n\nThis meeting will be a virtua
 l meeting facilitated by Marni and Mindy. Our Virtual General Discussion M
 eetings meet via the Google Meet platform (which can be accessed through a
  home computer/laptop\, tablet\, or mobile phone) and will require an inte
 rnet connection or phone data connection. \n\nPre-registration is required
 . Click REGISTER NOW\, enter the number of attendees\, your information\, 
 and then click COMPLETE REGISTRATION.\n\n
DTSTART;TZID=America/New_York:20211012T190000
DTEND;TZID=America/New_York:20211012T210000
LOCATION:Virtual Meeting using Google Meets
SUMMARY:VIRTUAL General Meeting (Led by Marni/Mindy)
END:VEVENT
END:VCALENDAR
