BEGIN:VCALENDAR
VERSION:2.0
PRODID:-//www.adoptionnetwork.org//NONSGML kigkonsult.se iCalcreator 2.30.1
 0//
CALSCALE:GREGORIAN
METHOD:PUBLISH
UID:d9ddaa2a-e5fd-48c1-9e0d-8665ca3d895b
X-WR-CALDESC:A part of supporting children is helping them grow and underst
 and big ideas and tough topics.  These topics may be awkward\, or uncomfor
 table to start but we are here to help. We are offering an opportunity to 
 learn how to tackle these conversations with children of all ages. \n\nOct
 ober's discussion will center on issues concerning drugs and alcohol with 
 Jessica Fisher MSW\, LSW. In this discussion we will navigate how to speak
  to your children about drugs and alcohol and important information you ma
 y need to help your child.
X-WR-RELCALID:8188500ea4babaa7ad3bfedc23a651d3
X-WR-TIMEZONE:America/New_York
BEGIN:VTIMEZONE
TZID:America/New_York
BEGIN:STANDARD
TZNAME:EST
DTSTART:20201101T020000
TZOFFSETFROM:-0400
TZOFFSETTO:-0500
RDATE:20211107T020000
RDATE:20221106T020000
END:STANDARD
BEGIN:DAYLIGHT
TZNAME:EDT
DTSTART:20210314T020000
TZOFFSETFROM:-0500
TZOFFSETTO:-0400
RDATE:20220313T020000
RDATE:20230312T020000
END:DAYLIGHT
END:VTIMEZONE
BEGIN:VEVENT
UID:3dbe121d-c992-41aa-ac07-2162f41f17f8
DTSTAMP:20260421T160713Z
DESCRIPTION:A part of supporting children is helping them grow and understa
 nd big ideas and tough topics.  These topics may be awkward\, or uncomfort
 able to start but we are here to help. We are offering an opportunity to l
 earn how to tackle these conversations with children of all ages. \n\nOcto
 ber's discussion will center on issues concerning drugs and alcohol with J
 essica Fisher MSW\, LSW. In this discussion we will navigate how to speak 
 to your children about drugs and alcohol and important information you may
  need to help your child.
DTSTART;TZID=America/New_York:20211014T183000
DTEND;TZID=America/New_York:20211014T200000
LOCATION:Virtual Using Zoom
SUMMARY:Drugs & Alcohol - Tough Talk Parenting Series (Virtual)
END:VEVENT
END:VCALENDAR
