BEGIN:VCALENDAR
VERSION:2.0
PRODID:-//www.adoptionnetwork.org//NONSGML kigkonsult.se iCalcreator 2.30.1
 0//
CALSCALE:GREGORIAN
METHOD:PUBLISH
UID:7c1b1954-4aac-4066-9b4d-eb3312e3b7df
X-WR-CALDESC:Monday\, October 18\, 2021\nADHD among Children and Adolescent
 s: Recognition and Intervention 983-2\nTrainer: Stacy Simera\n\nParent tra
 inings for Adoptive\, Foster and Kinship parents and guardians with region
 al and local experts are available free of charge as a part of a partnersh
 ip with Cuyahoga County Children and Family Services and the North Central
  Ohio Regional Training Center. All trainings are in person at Adoption Ne
 twork Cleveland's offices. \n\nTo register for trainings\, private agency 
 foster parents should have their agency worker contact Nefertiti McKinney 
 at (216) 881-4048\; public agency foster parents should register online at
  the OCWTP website\; and adoptive parents and kinship caregivers can conta
 ct Julius Jackson directly. Trainings meet the requirements for foster par
 ent continuing education hours.
X-WR-RELCALID:4536383bb7894d23c76cbc38c62d0fd2
X-WR-TIMEZONE:America/New_York
BEGIN:VTIMEZONE
TZID:America/New_York
BEGIN:STANDARD
TZNAME:EST
DTSTART:20201101T020000
TZOFFSETFROM:-0400
TZOFFSETTO:-0500
RDATE:20211107T020000
RDATE:20221106T020000
END:STANDARD
BEGIN:DAYLIGHT
TZNAME:EDT
DTSTART:20210314T020000
TZOFFSETFROM:-0500
TZOFFSETTO:-0400
RDATE:20220313T020000
RDATE:20230312T020000
END:DAYLIGHT
END:VTIMEZONE
BEGIN:VEVENT
UID:1e227c14-b166-46f0-a6fb-a27ecd870a47
DTSTAMP:20260421T161801Z
DESCRIPTION:Monday\, October 18\, 2021\nADHD among Children and Adolescents
 : Recognition and Intervention 983-2\nTrainer: Stacy Simera\n\nParent trai
 nings for Adoptive\, Foster and Kinship parents and guardians with regiona
 l and local experts are available free of charge as a part of a partnershi
 p with Cuyahoga County Children and Family Services and the North Central 
 Ohio Regional Training Center. All trainings are in person at Adoption Net
 work Cleveland's offices. \n\nTo register for trainings\, private agency f
 oster parents should have their agency worker contact Nefertiti McKinney a
 t (216) 881-4048\; public agency foster parents should register online at 
 the OCWTP website\; and adoptive parents and kinship caregivers can contac
 t Julius Jackson directly. Trainings meet the requirements for foster pare
 nt continuing education hours.
DTSTART;TZID=America/New_York:20211018T180000
DTEND;TZID=America/New_York:20211018T210000
LOCATION:4614 East Prospect\, #550\, Cleveland \, OH 44103 US
SUMMARY:ADHD Among Children and Adolescents - Parent Training
END:VEVENT
END:VCALENDAR
