BEGIN:VCALENDAR
VERSION:2.0
PRODID:-//www.adoptionnetwork.org//NONSGML kigkonsult.se iCalcreator 2.30.1
 0//
CALSCALE:GREGORIAN
METHOD:PUBLISH
UID:f394f0fc-c0c5-479e-96e7-75bb251dd736
X-WR-CALDESC:Monday\, October 25\, 2021\nEveryday Ethics\, #950-32\nTrainer
 : Anthony President\n\nParent trainings for Adoptive\, Foster and Kinship 
 parents and guardians with regional and local experts are available free o
 f charge as a part of a partnership with Cuyahoga County Children and Fami
 ly Services and the North Central Ohio Regional Training Center. All train
 ings are in person at Adoption Network Cleveland's offices. \n\nTo registe
 r for trainings\, private agency foster parents should have their agency w
 orker contact Nefertiti McKinney at (216) 881-4048\; public agency foster 
 parents should register online at the OCWTP website\; and adoptive parents
  and kinship caregivers can contact Julius Jackson directly. Trainings mee
 t the requirements for foster parent continuing education hours.
X-WR-RELCALID:896f31f62c42c0b2d3043a7421b8d9f9
X-WR-TIMEZONE:America/New_York
BEGIN:VTIMEZONE
TZID:America/New_York
BEGIN:STANDARD
TZNAME:EST
DTSTART:20201101T020000
TZOFFSETFROM:-0400
TZOFFSETTO:-0500
RDATE:20211107T020000
RDATE:20221106T020000
END:STANDARD
BEGIN:DAYLIGHT
TZNAME:EDT
DTSTART:20210314T020000
TZOFFSETFROM:-0500
TZOFFSETTO:-0400
RDATE:20220313T020000
RDATE:20230312T020000
END:DAYLIGHT
END:VTIMEZONE
BEGIN:VEVENT
UID:8e5f847c-c39a-47c4-b9c6-ed82fc6d05cf
DTSTAMP:20260421T161322Z
DESCRIPTION:Monday\, October 25\, 2021\nEveryday Ethics\, #950-32\nTrainer:
  Anthony President\n\nParent trainings for Adoptive\, Foster and Kinship p
 arents and guardians with regional and local experts are available free of
  charge as a part of a partnership with Cuyahoga County Children and Famil
 y Services and the North Central Ohio Regional Training Center. All traini
 ngs are in person at Adoption Network Cleveland's offices. \n\nTo register
  for trainings\, private agency foster parents should have their agency wo
 rker contact Nefertiti McKinney at (216) 881-4048\; public agency foster p
 arents should register online at the OCWTP website\; and adoptive parents 
 and kinship caregivers can contact Julius Jackson directly. Trainings meet
  the requirements for foster parent continuing education hours.
DTSTART;TZID=America/New_York:20211025T180000
DTEND;TZID=America/New_York:20211025T210000
LOCATION:4614 East Prospect\, #550\, Cleveland \, OH 44103 US
SUMMARY:Everyday Ethics - Parent Training
END:VEVENT
END:VCALENDAR
