BEGIN:VCALENDAR
VERSION:2.0
PRODID:-//www.adoptionnetwork.org//NONSGML kigkonsult.se iCalcreator 2.30.1
 0//
CALSCALE:GREGORIAN
METHOD:PUBLISH
UID:a3c1091b-4c46-4f07-b3b6-d2bfeee947a5
X-WR-CALDESC:Adoptive\, Kinship\, and Foster Families are invited to join u
 s for a Family Social Outing at Main Event. We will have dinner together a
 s a group in a private banquet room\, then enjoy two hours of open activit
 ies including bowling\, laser tag and gravity ropes (must be 48” tall)\, b
 illiards and shuffleboard. Each person will also receive one arcade game c
 ard for one hour of unlimited arcade games at the end of the evening. Regi
 stration is required by Friday\, May 13. Space is limited!
X-WR-RELCALID:462ae68e1d0dd442de20afa8e91a4579
X-WR-TIMEZONE:America/New_York
BEGIN:VTIMEZONE
TZID:America/New_York
BEGIN:STANDARD
TZNAME:EST
DTSTART:20211107T020000
TZOFFSETFROM:-0400
TZOFFSETTO:-0500
RDATE:20221106T020000
RDATE:20231105T020000
END:STANDARD
BEGIN:DAYLIGHT
TZNAME:EDT
DTSTART:20220313T020000
TZOFFSETFROM:-0500
TZOFFSETTO:-0400
RDATE:20230312T020000
END:DAYLIGHT
END:VTIMEZONE
BEGIN:VEVENT
UID:e81cb134-7031-42d3-bde4-0b49aa76dd74
DTSTAMP:20260423T074600Z
DESCRIPTION:Adoptive\, Kinship\, and Foster Families are invited to join us
  for a Family Social Outing at Main Event. We will have dinner together as
  a group in a private banquet room\, then enjoy two hours of open activiti
 es including bowling\, laser tag and gravity ropes (must be 48” tall)\, bi
 lliards and shuffleboard. Each person will also receive one arcade game ca
 rd for one hour of unlimited arcade games at the end of the evening. Regis
 tration is required by Friday\, May 13. Space is limited!
DTSTART;TZID=America/New_York:20220520T173000
DTEND;TZID=America/New_York:20220520T203000
LOCATION:35605 Chester Rd\, Avon\, OH 44011
SUMMARY:Main Event - Family Social Outing
END:VEVENT
END:VCALENDAR
