BEGIN:VCALENDAR
VERSION:2.0
PRODID:-//www.adoptionnetwork.org//NONSGML kigkonsult.se iCalcreator 2.30.1
 0//
CALSCALE:GREGORIAN
METHOD:PUBLISH
UID:262bed05-2fa7-475d-97ad-e4e68040c7e8
X-WR-CALDESC:Adopted people are overrepresented in statistics reflecting ad
 diction. Why is that? Zara Phillips will join us for this Monday Evening S
 peaker Series presentation and lead a discussion on why adoption and addic
 tion are interconnected for so many adoptees. She will also share her own 
 addiction story and reflect on how getting sober led her to understand the
  impact adoption had on her life. Zara will talk about the tools that have
  helped her stay sober and the challenges one faces when navigating a comp
 lex family life.\n\nAbout Zara Phillips\n\nBorn and raised in London\, Zar
 a is an adoptee\, author\, performer\, singer/songwriter\, and activist. H
 er acclaimed works include\, 'Mother Me (2009)\,' Somebody's Daughter (201
 8)\,' and the song\, 'I'm Legit\,' co-written and performed with Darryl Mc
 Daniels (DMC of Run-DMC). She has also written a 30-minute documentary\, '
 Roots Unknown - an Adoption Film' which is the Winner of the Garden State 
 Film Festival's Best Short Home Grown Documentary\, and the one-woman show
 \, 'Beneath My Father's Sky\,' winner of the United Solo Festival's Best D
 irection award. Zara explores the complexities of relationships and explor
 es the theme of connection and healing through her music\, writing\, and f
 acilitating workshops. She has presented across the UK and States on adopt
 ion topics.\n\nLearn more about Zara on her website: http://www.zaraphilli
 ps.net\n\n'I'm Legit' by Zara Phillips - https://youtu.be/3TuPIC-1Rmo\nRoo
 ts Unknown - An Adoption Film - https://youtu.be/-2CBashETD0\nBeneath My F
 ather's Sky - http://www.zaraphillips.net/performing/beneath-my-fathers-sk
 y/
X-WR-RELCALID:a87d9248891a8348a8b8269320517430
X-WR-TIMEZONE:America/New_York
BEGIN:VTIMEZONE
TZID:America/New_York
BEGIN:STANDARD
TZNAME:EST
DTSTART:20211107T020000
TZOFFSETFROM:-0400
TZOFFSETTO:-0500
RDATE:20221106T020000
RDATE:20231105T020000
END:STANDARD
BEGIN:DAYLIGHT
TZNAME:EDT
DTSTART:20220313T020000
TZOFFSETFROM:-0500
TZOFFSETTO:-0400
RDATE:20230312T020000
RDATE:20240310T020000
END:DAYLIGHT
END:VTIMEZONE
BEGIN:VEVENT
UID:2e5cbe53-eb6b-478d-9030-fa47aa11a0ed
DTSTAMP:20260421T120049Z
DESCRIPTION:Adopted people are overrepresented in statistics reflecting add
 iction. Why is that? Zara Phillips will join us for this Monday Evening Sp
 eaker Series presentation and lead a discussion on why adoption and addict
 ion are interconnected for so many adoptees. She will also share her own a
 ddiction story and reflect on how getting sober led her to understand the 
 impact adoption had on her life. Zara will talk about the tools that have 
 helped her stay sober and the challenges one faces when navigating a compl
 ex family life.\n\nAbout Zara Phillips\n\nBorn and raised in London\, Zara
  is an adoptee\, author\, performer\, singer/songwriter\, and activist. He
 r acclaimed works include\, 'Mother Me (2009)\,' Somebody's Daughter (2018
 )\,' and the song\, 'I'm Legit\,' co-written and performed with Darryl McD
 aniels (DMC of Run-DMC). She has also written a 30-minute documentary\, 'R
 oots Unknown - an Adoption Film' which is the Winner of the Garden State F
 ilm Festival's Best Short Home Grown Documentary\, and the one-woman show\
 , 'Beneath My Father's Sky\,' winner of the United Solo Festival's Best Di
 rection award. Zara explores the complexities of relationships and explore
 s the theme of connection and healing through her music\, writing\, and fa
 cilitating workshops. She has presented across the UK and States on adopti
 on topics.\n\nLearn more about Zara on her website: http://www.zaraphillip
 s.net\n\n'I'm Legit' by Zara Phillips - https://youtu.be/3TuPIC-1Rmo\nRoot
 s Unknown - An Adoption Film - https://youtu.be/-2CBashETD0\nBeneath My Fa
 ther's Sky - http://www.zaraphillips.net/performing/beneath-my-fathers-sky
 /
DTSTART;TZID=America/New_York:20220926T200000
DTEND;TZID=America/New_York:20220926T210000
LOCATION:Virtual
SUMMARY:Rescheduled - Adoption and Addiction - Monday Evening Speaker Serie
 s
END:VEVENT
END:VCALENDAR
