BEGIN:VCALENDAR
VERSION:2.0
PRODID:-//www.adoptionnetwork.org//NONSGML kigkonsult.se iCalcreator 2.30.1
 0//
CALSCALE:GREGORIAN
METHOD:PUBLISH
UID:4e0f5cc5-6136-471d-9c0f-4ffb95057986
X-WR-CALDESC:The all-new Ringling - Coming to Cleveland\n\nSee daring\, sup
 erhuman acts on a highwire\, trapeze\, bicycle & much more. Fun-filled lau
 ghter never stops at Ringling.Come join the fun under the big top! Your ki
 ddos won't want to miss the greatest show on earth! Children of all ages a
 re welcome to enjoy a spectacle of superhuman feats\, pushing the limits o
 f possibilities and thrilling families and fans of all generations! See ac
 robats\, clowns\, jugglers\, unicyclists\, tightrope walkers\, trapeze act
 s and so much more at the Rocket Mortgage Fieldhouse. \n\nRegister for thi
 s event by or before October 2nd  for tickets courtesy of Adoption Network
  Cleveland\n
X-WR-RELCALID:f64582aaf6f607ee3fa90c225700eb72
X-WR-TIMEZONE:America/New_York
BEGIN:VTIMEZONE
TZID:America/New_York
BEGIN:STANDARD
TZNAME:EST
DTSTART:20221106T020000
TZOFFSETFROM:-0400
TZOFFSETTO:-0500
RDATE:20231105T020000
RDATE:20241103T020000
END:STANDARD
BEGIN:DAYLIGHT
TZNAME:EDT
DTSTART:20230312T020000
TZOFFSETFROM:-0500
TZOFFSETTO:-0400
RDATE:20240310T020000
RDATE:20250309T020000
END:DAYLIGHT
END:VTIMEZONE
BEGIN:VEVENT
UID:b2e446d2-dd85-44a2-a67b-e7289e44fa01
DTSTAMP:20260420T201643Z
DESCRIPTION:The all-new Ringling - Coming to Cleveland\n\nSee daring\, supe
 rhuman acts on a highwire\, trapeze\, bicycle & much more. Fun-filled laug
 hter never stops at Ringling.Come join the fun under the big top! Your kid
 dos won't want to miss the greatest show on earth! Children of all ages ar
 e welcome to enjoy a spectacle of superhuman feats\, pushing the limits of
  possibilities and thrilling families and fans of all generations! See acr
 obats\, clowns\, jugglers\, unicyclists\, tightrope walkers\, trapeze acts
  and so much more at the Rocket Mortgage Fieldhouse. \n\nRegister for this
  event by or before October 2nd  for tickets courtesy of Adoption Network 
 Cleveland\n
DTSTART;TZID=America/New_York:20231006T190000
DTEND;TZID=America/New_York:20231006T210000
LOCATION:Rocket Mortgage Fieldhouse\, 1 Center Court\, Cleveland\, OH 44115
  US
SUMMARY:Ringling Bros. Circus
END:VEVENT
END:VCALENDAR
