BEGIN:VCALENDAR
VERSION:2.0
PRODID:-//www.adoptionnetwork.org//NONSGML kigkonsult.se iCalcreator 2.30.1
 0//
CALSCALE:GREGORIAN
METHOD:PUBLISH
UID:9e43de56-671f-42a6-910b-bfbee4c57897
X-WR-CALDESC:We are excited to welcome participants\, members\, and friends
  new and old. Come decorate cookies with us and bring a friend! No kids re
 quired. Simply bring a container to take home your confectionary masterpie
 ces or memorable mistakes of sprinkling sugars and icing. Adoption Network
  Cleveland will provide cookies\, frosting\, and sprinkles. Registration i
 s required to help us best prepare for you\, and yours.\n
X-WR-RELCALID:2d29950d5f5663a90b8c8bfa3946bb77
X-WR-TIMEZONE:America/New_York
BEGIN:VTIMEZONE
TZID:America/New_York
BEGIN:STANDARD
TZNAME:EST
DTSTART:20231105T020000
TZOFFSETFROM:-0400
TZOFFSETTO:-0500
RDATE:20241103T020000
END:STANDARD
BEGIN:DAYLIGHT
TZNAME:EDT
DTSTART:20230312T020000
TZOFFSETFROM:-0500
TZOFFSETTO:-0400
RDATE:20240310T020000
RDATE:20250309T020000
END:DAYLIGHT
END:VTIMEZONE
BEGIN:VEVENT
UID:113e7925-be8f-4672-8866-6424033fffc8
DTSTAMP:20260423T165149Z
DESCRIPTION:We are excited to welcome participants\, members\, and friends 
 new and old. Come decorate cookies with us and bring a friend! No kids req
 uired. Simply bring a container to take home your confectionary masterpiec
 es or memorable mistakes of sprinkling sugars and icing. Adoption Network 
 Cleveland will provide cookies\, frosting\, and sprinkles. Registration is
  required to help us best prepare for you\, and yours.\n
DTSTART;TZID=America/New_York:20231209T130000
DTEND;TZID=America/New_York:20231209T140000
LOCATION:Adoption Network Cleveland Office\, 12200 Fairhill Road\, 3rd Floo
 r -  A3\, Cleveland\, OH 44120 US
SUMMARY:Cookie Decorating Party Just for Grown-Ups
END:VEVENT
END:VCALENDAR
