BEGIN:VCALENDAR
VERSION:2.0
PRODID:-//www.adoptionnetwork.org//NONSGML kigkonsult.se iCalcreator 2.30.1
 0//
CALSCALE:GREGORIAN
METHOD:PUBLISH
UID:f5e1787b-a50f-4ff5-86ea-d7e0dda41cf4
X-WR-CALDESC:Journeys of Discovery\, An Adoption Network Cleveland Conferen
 ce\, brings you 3 Keynote presentations\, 16 workshops\, 3 theatrical perf
 ormances\, 3 evenings of fun\, a catered reception\, 5 meals\, content qua
 lifying for professional CEUs including 3 ethics hours\, creative and comm
 unity-building opportunities\, and more!\n\nWe recommend visiting our Conf
 erence homepage before registering to preview pricing\, meals\, and worksh
 op choices. https://www.adoptionnetwork.org/conference/\n\nSliding Fee Sca
 le for Conference Registration\nOur sliding fee scale offers flexible pric
 ing to ensure this conference is accessible to all. Choose the tier that a
 ligns with your current financial situation. Whether you pay the Financial
  Assistance Rate\, Reduced Rate\, Standard Rate\, or Supporter Rate\, your
  participation is equally valued.\n\nAre you a member of Adoption Network 
 Cleveland? To register using the member discount choose 'Full Conference T
 icket' and then use the member promo code sent to you by email from Betsie
  Norris on January 15\, 2025. The code will be used during checkout at the
  end of registration. \n\nAdoption Network Cleveland Members receive disco
 unted rates to attend. Want to become a member before you register? Click 
 here: https://www.adoptionnetwork.org/get-involved/become-a-member.html
X-WR-RELCALID:b6891977114f6f122665a2c59f5a7da6
X-WR-TIMEZONE:America/New_York
BEGIN:VTIMEZONE
TZID:America/New_York
BEGIN:STANDARD
TZNAME:EST
DTSTART:20241103T020000
TZOFFSETFROM:-0400
TZOFFSETTO:-0500
RDATE:20251102T020000
END:STANDARD
BEGIN:DAYLIGHT
TZNAME:EDT
DTSTART:20250309T020000
TZOFFSETFROM:-0500
TZOFFSETTO:-0400
RDATE:20260308T020000
END:DAYLIGHT
END:VTIMEZONE
BEGIN:VEVENT
UID:a01fefd1-1d7f-45b8-9983-d0e0395d6fc2
DTSTAMP:20260423T152341Z
DESCRIPTION:Journeys of Discovery\, An Adoption Network Cleveland Conferenc
 e\, brings you 3 Keynote presentations\, 16 workshops\, 3 theatrical perfo
 rmances\, 3 evenings of fun\, a catered reception\, 5 meals\, content qual
 ifying for professional CEUs including 3 ethics hours\, creative and commu
 nity-building opportunities\, and more!\n\nWe recommend visiting our Confe
 rence homepage before registering to preview pricing\, meals\, and worksho
 p choices. https://www.adoptionnetwork.org/conference/\n\nSliding Fee Scal
 e for Conference Registration\nOur sliding fee scale offers flexible prici
 ng to ensure this conference is accessible to all. Choose the tier that al
 igns with your current financial situation. Whether you pay the Financial 
 Assistance Rate\, Reduced Rate\, Standard Rate\, or Supporter Rate\, your 
 participation is equally valued.\n\nAre you a member of Adoption Network C
 leveland? To register using the member discount choose 'Full Conference Ti
 cket' and then use the member promo code sent to you by email from Betsie 
 Norris on January 15\, 2025. The code will be used during checkout at the 
 end of registration. \n\nAdoption Network Cleveland Members receive discou
 nted rates to attend. Want to become a member before you register? Click h
 ere: https://www.adoptionnetwork.org/get-involved/become-a-member.html
DTSTART;TZID=America/New_York:20250320T183000
DTEND;TZID=America/New_York:20250323T120000
LOCATION:Baldwin Wallace University\, Sandstone Conference Center\, Strosac
 ker Hall\, Lower Level\, 125 Tressel Street\, Berea\, OH 44017 US
SUMMARY:Journeys of Discovery\, An Adoption Network Cleveland Conference
END:VEVENT
END:VCALENDAR
