BEGIN:VCALENDAR
VERSION:2.0
PRODID:-//www.adoptionnetwork.org//NONSGML kigkonsult.se iCalcreator 2.30.1
 0//
CALSCALE:GREGORIAN
METHOD:PUBLISH
UID:1bfa5097-2f02-4b8e-bcd6-23c476c2c723
X-WR-CALDESC:Julie Ryan McGue is an adoptee\, identical twin and the author
  of three published works of nonfiction. In her presentation for the Monda
 y Evening Speaker Series on May 12\, Julie will talk about the realities o
 f her adoption and unique family dynamics\, how she navigated the adoption
  search and reunion experience\, and why those journeys led to penning two
  memoirs.  Julie believes that through storytelling and memoir\, adoptees 
 validate their own experiences\, challenge cultural myths about adoption\,
  and begin to mend the emotional wounds that adoption’s secrecy and shame 
 have left behind. Each participant who attends the presentation will be en
 tered into a drawing to receive one of Julie’s books. \n\nAbout Julie\nJul
 ie Ryan McGue is an American writer\, a domestic adoptee\, and an identica
 l twin. She is the author of three published works: Twice a Daughter: A Se
 arch for Identity\, Family\, and Belonging (She Writes Press\, 2021)\, Bel
 onging Matters: Conversations on Adoption\, Family\, and Kinship (Muse Lit
 erary\, 2023)\, and Twice the Family: A Memoir of Love\, Loss\, and Sister
 hood (She Writes Press\, Feb. 2025). Her work has appeared in multiple jou
 rnals\, anthologies\, and online sites\, such as Writer’s Digest\, Story C
 ircle Network Journal\, Brevity Nonfiction Blog\, Adoption.com and Severan
 ce Magazine. She also writes a bi-weekly blog and monthly column for her h
 ometown newspaper in which she explores the topics of finding out who you 
 are\, where you belong and making sense of it. Julie splits her time betwe
 en northwest Indiana and Sarasota\, Florida. If she’s not visiting with he
 r six grandsons\, she’s at her computer\, or on the tennis court!
X-WR-RELCALID:f9c0e0b21d8d946d3b2f4da036b26b45
X-WR-TIMEZONE:America/New_York
BEGIN:VTIMEZONE
TZID:America/New_York
BEGIN:STANDARD
TZNAME:EST
DTSTART:20241103T020000
TZOFFSETFROM:-0400
TZOFFSETTO:-0500
RDATE:20251102T020000
RDATE:20261101T020000
END:STANDARD
BEGIN:DAYLIGHT
TZNAME:EDT
DTSTART:20250309T020000
TZOFFSETFROM:-0500
TZOFFSETTO:-0400
RDATE:20260308T020000
END:DAYLIGHT
END:VTIMEZONE
BEGIN:VEVENT
UID:43a86c42-b6ce-42b0-b4e3-0f0d719f2c07
DTSTAMP:20260423T152459Z
DESCRIPTION:Julie Ryan McGue is an adoptee\, identical twin and the author 
 of three published works of nonfiction. In her presentation for the Monday
  Evening Speaker Series on May 12\, Julie will talk about the realities of
  her adoption and unique family dynamics\, how she navigated the adoption 
 search and reunion experience\, and why those journeys led to penning two 
 memoirs.  Julie believes that through storytelling and memoir\, adoptees v
 alidate their own experiences\, challenge cultural myths about adoption\, 
 and begin to mend the emotional wounds that adoption’s secrecy and shame h
 ave left behind. Each participant who attends the presentation will be ent
 ered into a drawing to receive one of Julie’s books. \n\nAbout Julie\nJuli
 e Ryan McGue is an American writer\, a domestic adoptee\, and an identical
  twin. She is the author of three published works: Twice a Daughter: A Sea
 rch for Identity\, Family\, and Belonging (She Writes Press\, 2021)\, Belo
 nging Matters: Conversations on Adoption\, Family\, and Kinship (Muse Lite
 rary\, 2023)\, and Twice the Family: A Memoir of Love\, Loss\, and Sisterh
 ood (She Writes Press\, Feb. 2025). Her work has appeared in multiple jour
 nals\, anthologies\, and online sites\, such as Writer’s Digest\, Story Ci
 rcle Network Journal\, Brevity Nonfiction Blog\, Adoption.com and Severanc
 e Magazine. She also writes a bi-weekly blog and monthly column for her ho
 metown newspaper in which she explores the topics of finding out who you a
 re\, where you belong and making sense of it. Julie splits her time betwee
 n northwest Indiana and Sarasota\, Florida. If she’s not visiting with her
  six grandsons\, she’s at her computer\, or on the tennis court!
DTSTART;TZID=America/New_York:20250512T200000
DTEND;TZID=America/New_York:20250512T210000
LOCATION:
SUMMARY:VIRTUAL - From Loss to Legacy: Healing from Adoption Loss and Findi
 ng Identity and Belonging through Storytelling with Julie Ryan McGue
END:VEVENT
END:VCALENDAR
