BEGIN:VCALENDAR
VERSION:2.0
PRODID:-//www.adoptionnetwork.org//NONSGML kigkonsult.se iCalcreator 2.30.1
 0//
CALSCALE:GREGORIAN
METHOD:PUBLISH
UID:8d590af8-5d3a-415d-8b69-e42a614cb393
X-WR-CALDESC:Deborah Jiang-Stein\, a product of foster care and adoption\, 
 is author of “Lucky Tomorrow: Stories”\, and the memoir\, “Prison Baby.' S
 he will discuss her adoption journey after learning the secret of her birt
 h in prison. She speaks about the stories that define us\, and reframing o
 ur narrative on our own terms\, moving through trauma stories to include j
 oy\, resilience\, and growth in the adoption narrative.\n\nAbout Deborah\n
 Deborah Jiang-Stein is a product of foster care and adoption\, and an awar
 d-winning writer\, public speaker\, collaborator\, and author of the short
  story collection\, Lucky Tomorrow\, and the memoir Prison Baby. Deborah i
 s founder of the unPrison Project\, working with and mentoring people in p
 risons to build life skills.
X-WR-RELCALID:582d8329bd9bbadc3d0a21c11e9b5ebc
X-WR-TIMEZONE:America/New_York
BEGIN:VTIMEZONE
TZID:America/New_York
BEGIN:STANDARD
TZNAME:EST
DTSTART:20241103T020000
TZOFFSETFROM:-0400
TZOFFSETTO:-0500
RDATE:20251102T020000
RDATE:20261101T020000
END:STANDARD
BEGIN:DAYLIGHT
TZNAME:EDT
DTSTART:20250309T020000
TZOFFSETFROM:-0500
TZOFFSETTO:-0400
RDATE:20260308T020000
RDATE:20270314T020000
END:DAYLIGHT
END:VTIMEZONE
BEGIN:VEVENT
UID:29c6921f-63f2-4658-9258-2a8018961845
DTSTAMP:20260422T054943Z
DESCRIPTION:Deborah Jiang-Stein\, a product of foster care and adoption\, i
 s author of “Lucky Tomorrow: Stories”\, and the memoir\, “Prison Baby.' Sh
 e will discuss her adoption journey after learning the secret of her birth
  in prison. She speaks about the stories that define us\, and reframing ou
 r narrative on our own terms\, moving through trauma stories to include jo
 y\, resilience\, and growth in the adoption narrative.\n\nAbout Deborah\nD
 eborah Jiang-Stein is a product of foster care and adoption\, and an award
 -winning writer\, public speaker\, collaborator\, and author of the short 
 story collection\, Lucky Tomorrow\, and the memoir Prison Baby. Deborah is
  founder of the unPrison Project\, working with and mentoring people in pr
 isons to build life skills.
DTSTART;TZID=America/New_York:20251013T200000
DTEND;TZID=America/New_York:20251013T210000
LOCATION:
SUMMARY:VIRTUAL - Finding Your Voice: From Personal Journey to Shared Exper
 ience with Deborah Jiang-Stein
END:VEVENT
END:VCALENDAR
