BEGIN:VCALENDAR
VERSION:2.0
PRODID:-//www.adoptionnetwork.org//NONSGML kigkonsult.se iCalcreator 2.30.1
 0//
CALSCALE:GREGORIAN
METHOD:PUBLISH
UID:df5d0441-5e97-4686-ad3b-c9e79ae0bd61
X-WR-CALDESC:The Transnational Adoptee Support Group Meetings offer a safe 
 space for transnational adoptees to explore the challenges and lifelong ex
 periences shaped by adoption across borders. Led by transnational adoptees
  Abby Shaw and Svetlana Sandoval\, these group discussions aim to foster a
  sense of community\, allowing us to share our stories and support one ano
 ther in our unique experiences. Transnational adoptees face distinct chall
 enges\, including cultural and language loss\, legal complexities related 
 to citizenship and identity\, and the unique challenges in birth family se
 arch and reunion transnationally. To ensure this space is centered on our 
 shared yet nuanced experiences\, we ask that only transnational adoptees a
 ttend.\n\nAbout Sandi\nSandi Caesar is an adoptee and\, for many years\, h
 as worked in child welfare. She was born Cristina Rodriguez in Panama to a
  14-year-old girl who parented her for most of her 1st year. Ultimately\, 
 she was placed for adoption by her maternal grandmother without the knowle
 dge or consent of her birth mother. Sandi was adopted by a Black US Air Fo
 rce family stationed in Panama at the time. Sandi was naturalized as a US 
 citizen then brought to the US at 3 years old. She grew up in Dayton\, Ohi
 o. Sandi has been reunited with her birthmother and maternal family in Pan
 ama since 2004. Sandi holds a B.S. degree in Human Development from Howard
  University and an M.S.W. from Indiana University.\n\nAbout Svetlana\nSvet
 lana Sandoval is an International Adoptee from Russia. She was adopted to 
 the U.S. during the peak wave of international adoptions in the late 90s. 
 Svetlana is in reunion with her birthmother and family in Russia\, and has
  been navigating reunion across language\, cultural and legal barriers sha
 red by many international adoptees. Svetlana has spent the last two years 
 reclaiming her immigrant and adoptee identities and exploring her heritage
  with the support of adoptee community. Svetlana is currently pursuing a B
 achelor of Social Work and hopes to pursue a future supporting adoptees an
 d centering their lived experiences in research.
X-WR-RELCALID:7e9dd399ba3948a247f45935ef4d268e
X-WR-TIMEZONE:America/New_York
BEGIN:VTIMEZONE
TZID:America/New_York
BEGIN:STANDARD
TZNAME:EST
DTSTART:20241103T020000
TZOFFSETFROM:-0400
TZOFFSETTO:-0500
RDATE:20251102T020000
RDATE:20261101T020000
END:STANDARD
BEGIN:DAYLIGHT
TZNAME:EDT
DTSTART:20250309T020000
TZOFFSETFROM:-0500
TZOFFSETTO:-0400
RDATE:20260308T020000
RDATE:20270314T020000
END:DAYLIGHT
END:VTIMEZONE
BEGIN:VEVENT
UID:9927105a-a9ee-4ffb-a087-b00a17c5720f
DTSTAMP:20260423T152051Z
DESCRIPTION:The Transnational Adoptee Support Group Meetings offer a safe s
 pace for transnational adoptees to explore the challenges and lifelong exp
 eriences shaped by adoption across borders. Led by transnational adoptees 
 Abby Shaw and Svetlana Sandoval\, these group discussions aim to foster a 
 sense of community\, allowing us to share our stories and support one anot
 her in our unique experiences. Transnational adoptees face distinct challe
 nges\, including cultural and language loss\, legal complexities related t
 o citizenship and identity\, and the unique challenges in birth family sea
 rch and reunion transnationally. To ensure this space is centered on our s
 hared yet nuanced experiences\, we ask that only transnational adoptees at
 tend.\n\nAbout Sandi\nSandi Caesar is an adoptee and\, for many years\, ha
 s worked in child welfare. She was born Cristina Rodriguez in Panama to a 
 14-year-old girl who parented her for most of her 1st year. Ultimately\, s
 he was placed for adoption by her maternal grandmother without the knowled
 ge or consent of her birth mother. Sandi was adopted by a Black US Air For
 ce family stationed in Panama at the time. Sandi was naturalized as a US c
 itizen then brought to the US at 3 years old. She grew up in Dayton\, Ohio
 . Sandi has been reunited with her birthmother and maternal family in Pana
 ma since 2004. Sandi holds a B.S. degree in Human Development from Howard 
 University and an M.S.W. from Indiana University.\n\nAbout Svetlana\nSvetl
 ana Sandoval is an International Adoptee from Russia. She was adopted to t
 he U.S. during the peak wave of international adoptions in the late 90s. S
 vetlana is in reunion with her birthmother and family in Russia\, and has 
 been navigating reunion across language\, cultural and legal barriers shar
 ed by many international adoptees. Svetlana has spent the last two years r
 eclaiming her immigrant and adoptee identities and exploring her heritage 
 with the support of adoptee community. Svetlana is currently pursuing a Ba
 chelor of Social Work and hopes to pursue a future supporting adoptees and
  centering their lived experiences in research.
DTSTART;TZID=America/New_York:20251014T200000
DTEND;TZID=America/New_York:20251014T220000
LOCATION:Zoom
SUMMARY:Transnational Adoptee Support Group
END:VEVENT
END:VCALENDAR
