BEGIN:VCALENDAR
VERSION:2.0
PRODID:-//www.adoptionnetwork.org//NONSGML kigkonsult.se iCalcreator 2.30.1
 0//
CALSCALE:GREGORIAN
METHOD:PUBLISH
UID:d0865c45-d341-417b-a1ab-6c9c93fed6e7
X-WR-CALDESC:Kim Dyckes is an adoptee\, a 200-hour certified yoga teacher\,
  a retired Montessori teacher\, and a long-time volunteer for Adoption Net
 work Cleveland.  Yoga became a way of life for Kim from the first time she
  experienced its healing properties in 2008\, and her practice carried her
  through many difficult times\, including a divorce and the untimely death
 s of her daughter and stepdaughter.\n\nAfter Kim retired from her career a
 s a Montessori teacher in 2022\, she obtained her 200-hour yoga certificat
 ion at Chagrin Yoga in Chagrin Falls\, Ohio and began teaching at various 
 studios and a local assisted living facility.  She quickly realized she ne
 eded to share the healing powers of yogic breath\, movement and sound with
  those who struggle with grief and loss.  She began to study this realm an
 d now leads grief workshops at Sunshine Yoga Studio in Chesterland\, Ohio\
 , and other Cleveland area settings.  \n\nKim understands that grief comes
  in many forms and often in unexpected waves.  She has been in reunion wit
 h her birthmother and half siblings for over thirty years\, and her intera
 ctions with them have taught her that all members of the adoption constell
 ation experience grief and loss and that the holiday season can be particu
 larly triggering in this regard.\n\nKim looks forward to sharing technique
 s to calm the nervous system and navigate waves of grief using breath\, mo
 vement and sound.  No yoga experience is necessary.  The program can be ac
 cessed from a mat or a chair.  This is about emotional healing\, not physi
 cal flexibility.
X-WR-RELCALID:8b19c330dd7f7b4bb12524cf4bf8d81c
X-WR-TIMEZONE:America/New_York
BEGIN:VTIMEZONE
TZID:America/New_York
BEGIN:STANDARD
TZNAME:EST
DTSTART:20251102T020000
TZOFFSETFROM:-0400
TZOFFSETTO:-0500
RDATE:20261101T020000
END:STANDARD
BEGIN:DAYLIGHT
TZNAME:EDT
DTSTART:20250309T020000
TZOFFSETFROM:-0500
TZOFFSETTO:-0400
RDATE:20260308T020000
RDATE:20270314T020000
END:DAYLIGHT
END:VTIMEZONE
BEGIN:VEVENT
UID:d8ebcb8b-b749-4a02-9534-fbbffd14b107
DTSTAMP:20260422T060351Z
DESCRIPTION:Kim Dyckes is an adoptee\, a 200-hour certified yoga teacher\, 
 a retired Montessori teacher\, and a long-time volunteer for Adoption Netw
 ork Cleveland.  Yoga became a way of life for Kim from the first time she 
 experienced its healing properties in 2008\, and her practice carried her 
 through many difficult times\, including a divorce and the untimely deaths
  of her daughter and stepdaughter.\n\nAfter Kim retired from her career as
  a Montessori teacher in 2022\, she obtained her 200-hour yoga certificati
 on at Chagrin Yoga in Chagrin Falls\, Ohio and began teaching at various s
 tudios and a local assisted living facility.  She quickly realized she nee
 ded to share the healing powers of yogic breath\, movement and sound with 
 those who struggle with grief and loss.  She began to study this realm and
  now leads grief workshops at Sunshine Yoga Studio in Chesterland\, Ohio\,
  and other Cleveland area settings.  \n\nKim understands that grief comes 
 in many forms and often in unexpected waves.  She has been in reunion with
  her birthmother and half siblings for over thirty years\, and her interac
 tions with them have taught her that all members of the adoption constella
 tion experience grief and loss and that the holiday season can be particul
 arly triggering in this regard.\n\nKim looks forward to sharing techniques
  to calm the nervous system and navigate waves of grief using breath\, mov
 ement and sound.  No yoga experience is necessary.  The program can be acc
 essed from a mat or a chair.  This is about emotional healing\, not physic
 al flexibility.
DTSTART;TZID=America/New_York:20251110T200000
DTEND;TZID=America/New_York:20251110T210000
LOCATION:
SUMMARY:VIRTUAL - Healing Yoga for Grief and Loss with Kim Dyckes
END:VEVENT
END:VCALENDAR
