BEGIN:VCALENDAR
VERSION:2.0
PRODID:-//www.adoptionnetwork.org//NONSGML kigkonsult.se iCalcreator 2.30.1
 0//
CALSCALE:GREGORIAN
METHOD:PUBLISH
UID:7714d066-d220-413c-9921-f98a1e80541e
X-WR-CALDESC:In this session\, we’ll take a new approach to that one questi
 on we\, in the adoption reform community ask ourselves often: “What if…?” 
 Artist and author\, Beth Jaffe will share her version of this question and
  her answer. She’ll help us face pandora’s box as she takes us on her jour
 ney from fun-loving and fearless college student to suicidal birthmother d
 ealing with PTSD and then on to fierce activist in a gentle mystic’s dress
 . With a light touch\, even while pressing on heavy truths\, Beth will off
 er relief\, connection\, and a deeper understanding of what it means to be
  human in the messiest\, most meaningful moments of life.\n\nAbout Beth\nB
 eth Jaffe is a creative force of nature who reformed Montana’s adoption la
 w ten years ago. Her memoir Choiceless (on sale in late November 2025) bri
 ngs raw honesty\, humor\, and heart to the complexities of adoption trauma
 . Through her challenging story\, she offers a powerful new perspective on
  what it means to surrender\, survive\, and heal. Beth writes with a voice
  shaped by curiosity\, dyslexia\, and deep emotional insight. Her work is 
 a lifeline for those navigating shame\, silence\, and the long echoes of l
 oss. Whether advocating for systemic change or guiding others through inne
 r healing\, she’s proof that the most broken parts of our stories can beco
 me the most beautiful.
X-WR-RELCALID:26e62a288933b79e92253e33b9a1c568
X-WR-TIMEZONE:America/New_York
BEGIN:VTIMEZONE
TZID:America/New_York
BEGIN:STANDARD
TZNAME:EST
DTSTART:20251102T020000
TZOFFSETFROM:-0400
TZOFFSETTO:-0500
RDATE:20261101T020000
END:STANDARD
BEGIN:DAYLIGHT
TZNAME:EDT
DTSTART:20250309T020000
TZOFFSETFROM:-0500
TZOFFSETTO:-0400
RDATE:20260308T020000
RDATE:20270314T020000
END:DAYLIGHT
END:VTIMEZONE
BEGIN:VEVENT
UID:5612cfd4-8872-49b0-ac11-a0afbe80f6da
DTSTAMP:20260423T151502Z
DESCRIPTION:In this session\, we’ll take a new approach to that one questio
 n we\, in the adoption reform community ask ourselves often: “What if…?” A
 rtist and author\, Beth Jaffe will share her version of this question and 
 her answer. She’ll help us face pandora’s box as she takes us on her journ
 ey from fun-loving and fearless college student to suicidal birthmother de
 aling with PTSD and then on to fierce activist in a gentle mystic’s dress.
  With a light touch\, even while pressing on heavy truths\, Beth will offe
 r relief\, connection\, and a deeper understanding of what it means to be 
 human in the messiest\, most meaningful moments of life.\n\nAbout Beth\nBe
 th Jaffe is a creative force of nature who reformed Montana’s adoption law
  ten years ago. Her memoir Choiceless (on sale in late November 2025) brin
 gs raw honesty\, humor\, and heart to the complexities of adoption trauma.
  Through her challenging story\, she offers a powerful new perspective on 
 what it means to surrender\, survive\, and heal. Beth writes with a voice 
 shaped by curiosity\, dyslexia\, and deep emotional insight. Her work is a
  lifeline for those navigating shame\, silence\, and the long echoes of lo
 ss. Whether advocating for systemic change or guiding others through inner
  healing\, she’s proof that the most broken parts of our stories can becom
 e the most beautiful.
DTSTART;TZID=America/New_York:20251117T200000
DTEND;TZID=America/New_York:20251117T210000
LOCATION:
SUMMARY:VIRTUAL - When a Private Adoption Story Becomes a Public Reckoning 
 with Beth Jaffe
END:VEVENT
END:VCALENDAR
