BEGIN:VCALENDAR
VERSION:2.0
PRODID:-//www.adoptionnetwork.org//NONSGML kigkonsult.se iCalcreator 2.30.1
 0//
CALSCALE:GREGORIAN
METHOD:PUBLISH
UID:5ff17c8e-61c8-44f8-93d8-c964a374e4c0
X-WR-CALDESC:Addiction touches many lives\, but its impact within the adopt
 ion constellation is often layered\, overlooked\, and deeply personal. Joi
 n JJ and Rosemary for an open\, compassionate conversation that explores h
 ow addiction intersects with identity\, loss\, healing\, and family connec
 tions. Whether you’re personally affected\, supporting someone you love\, 
 or simply curious to understand more\, this session offers a thoughtful sp
 ace to learn\, reflect\, and connect with others.\n\nAbout General Discuss
 ion Meetings \nThese virtual gatherings provide a safe place where people 
 can share their feelings and experiences\, get support from their peers\, 
 and learn from others’ perspectives. The meetings have an open discussion 
 format and are attended by anyone with a connection to adoption or foster 
 care\, including adult adoptees\, birth parents\, siblings\, and adoptive 
 parents\, those that have experienced foster or kinship care\, or DNA disc
 overies such as misattributed parentage or donor conception. Professionals
  are also welcome to come and learn from the shared perspectives of the co
 nstellation members.\n\nWe believe adoption is a complex\, lifelong\, and 
 intergenerational journey for all those whose lives are impacted by it. Th
 ese meetings connect and empower individuals impacted by adoption\, kinshi
 p\, foster care\, and DNA Discoveries and provide a source of healing\, un
 derstanding\, and learning. Recognizing that a unified voice is a strong v
 oice\, we advocate for truth and honesty on behalf of adoptees\, who wonde
 r where they came from and why they were placed for adoption\; for birth f
 amilies\, who have never forgotten the child\; and for adoptive families\,
  who deserve to have their questions addressed honestly. We recognize that
  everyone has a right to know their genetic history. By bringing these gro
 ups together\, we learn from the experiences of each other and have the op
 portunity to explore and process our own journeys.\n\nGroup's Scope\nThis 
 peer discussion and support group is not meant to replace conventional the
 rapy but rather serves as additional support on your personal journey to i
 ntegrate your experience. The focus of this group is the emotional aspects
  of our journeys. For those involved in the process of search\, one on one
  guidance and support as well as technical expertise and assistance are av
 ailable through our Search & DNA Assistance Program.\n\nMeeting Informatio
 n\nThese are virtual meetings led by trained\, volunteer facilitators usin
 g the Zoom platform (which can be accessed through a home computer/laptop\
 , tablet\, or mobile phone) and will require an internet connection or pho
 ne data connection. Pre-registration is required and can be completed by f
 inding the link for the meeting on our calendar and following the prompts 
 for registration. There are five opportunities to participate in a meeting
  each month. Dates and times can be found on our calendar: https://www.ado
 ptionnetwork.org/news-events/our-calendar.html\n
X-WR-RELCALID:65c04cca7a4237cfe77cac1038b45be8
X-WR-TIMEZONE:America/New_York
BEGIN:VTIMEZONE
TZID:America/New_York
BEGIN:STANDARD
TZNAME:EST
DTSTART:20251102T020000
TZOFFSETFROM:-0400
TZOFFSETTO:-0500
RDATE:20261101T020000
END:STANDARD
BEGIN:DAYLIGHT
TZNAME:EDT
DTSTART:20260308T020000
TZOFFSETFROM:-0500
TZOFFSETTO:-0400
RDATE:20270314T020000
END:DAYLIGHT
END:VTIMEZONE
BEGIN:VEVENT
UID:65873666-d40b-4198-bf48-9a723f0c4085
DTSTAMP:20260419T134042Z
DESCRIPTION:Addiction touches many lives\, but its impact within the adopti
 on constellation is often layered\, overlooked\, and deeply personal. Join
  JJ and Rosemary for an open\, compassionate conversation that explores ho
 w addiction intersects with identity\, loss\, healing\, and family connect
 ions. Whether you’re personally affected\, supporting someone you love\, o
 r simply curious to understand more\, this session offers a thoughtful spa
 ce to learn\, reflect\, and connect with others.\n\nAbout General Discussi
 on Meetings \nThese virtual gatherings provide a safe place where people c
 an share their feelings and experiences\, get support from their peers\, a
 nd learn from others’ perspectives. The meetings have an open discussion f
 ormat and are attended by anyone with a connection to adoption or foster c
 are\, including adult adoptees\, birth parents\, siblings\, and adoptive p
 arents\, those that have experienced foster or kinship care\, or DNA disco
 veries such as misattributed parentage or donor conception. Professionals 
 are also welcome to come and learn from the shared perspectives of the con
 stellation members.\n\nWe believe adoption is a complex\, lifelong\, and i
 ntergenerational journey for all those whose lives are impacted by it. The
 se meetings connect and empower individuals impacted by adoption\, kinship
 \, foster care\, and DNA Discoveries and provide a source of healing\, und
 erstanding\, and learning. Recognizing that a unified voice is a strong vo
 ice\, we advocate for truth and honesty on behalf of adoptees\, who wonder
  where they came from and why they were placed for adoption\; for birth fa
 milies\, who have never forgotten the child\; and for adoptive families\, 
 who deserve to have their questions addressed honestly. We recognize that 
 everyone has a right to know their genetic history. By bringing these grou
 ps together\, we learn from the experiences of each other and have the opp
 ortunity to explore and process our own journeys.\n\nGroup's Scope\nThis p
 eer discussion and support group is not meant to replace conventional ther
 apy but rather serves as additional support on your personal journey to in
 tegrate your experience. The focus of this group is the emotional aspects 
 of our journeys. For those involved in the process of search\, one on one 
 guidance and support as well as technical expertise and assistance are ava
 ilable through our Search & DNA Assistance Program.\n\nMeeting Information
 \nThese are virtual meetings led by trained\, volunteer facilitators using
  the Zoom platform (which can be accessed through a home computer/laptop\,
  tablet\, or mobile phone) and will require an internet connection or phon
 e data connection. Pre-registration is required and can be completed by fi
 nding the link for the meeting on our calendar and following the prompts f
 or registration. There are five opportunities to participate in a meeting 
 each month. Dates and times can be found on our calendar: https://www.adop
 tionnetwork.org/news-events/our-calendar.html\n
DTSTART;TZID=America/New_York:20260507T190000
DTEND;TZID=America/New_York:20260507T210000
LOCATION:Zoom
SUMMARY:Addiction in the Adoption Constellation: A special topic meeting fa
 cilitated by JJ and Rosemary
END:VEVENT
END:VCALENDAR
