BEGIN:VCALENDAR
VERSION:2.0
PRODID:-//www.adoptionnetwork.org//NONSGML kigkonsult.se iCalcreator 2.30.1
 0//
CALSCALE:GREGORIAN
METHOD:PUBLISH
UID:4ad76990-4ce5-48d8-a6a9-7979668bbf14
X-WR-CALDESC:Everyone in the Network connected to Adoption Network Clevelan
 d and their families are invited to join us for our Annual Cookout! This i
 ncludes anyone who has participated in programs - past or present\, volunt
 eers\, donors\, board members\, staff\, community partners\, and family me
 mbers. There will be food\, games for the kids\, entertainment\, music\, c
 ommunity and fun! We will be providing drinks and main dishes. Please brin
 g a side or dessert to share.\n\nWe will also be hosting a special\, in-pe
 rson General Discussion Meeting directly before the Annual Adoption Networ
 k Cleveland Cookout. It is an opportunity for individuals in the Cleveland
  area to come together in person and participate in a meeting. Please note
  that this meeting is for adults only. Childcare will be provided during t
 he meeting for children ages 2+. Please indicate during registration if yo
 u need childcare. Also\, please bring a lawn chair which you can use for t
 he meeting.  We ask that you register separately for the General Discussio
 n Meeting: https://www.adoptionnetwork.org/news-events/our-calendar.html/e
 vent/2026/05/30/general-discussion-meeting-in-person-at-cookout-/555814
X-WR-RELCALID:184078da428323d15103b2e7a252686e
X-WR-TIMEZONE:America/New_York
BEGIN:VTIMEZONE
TZID:America/New_York
BEGIN:STANDARD
TZNAME:EST
DTSTART:20251102T020000
TZOFFSETFROM:-0400
TZOFFSETTO:-0500
RDATE:20261101T020000
RDATE:20271107T020000
END:STANDARD
BEGIN:DAYLIGHT
TZNAME:EDT
DTSTART:20260308T020000
TZOFFSETFROM:-0500
TZOFFSETTO:-0400
RDATE:20270314T020000
END:DAYLIGHT
END:VTIMEZONE
BEGIN:VEVENT
UID:55a8d79c-ce6f-4bcb-b9df-206ff720ce10
DTSTAMP:20260420T182655Z
DESCRIPTION:Everyone in the Network connected to Adoption Network Cleveland
  and their families are invited to join us for our Annual Cookout! This in
 cludes anyone who has participated in programs - past or present\, volunte
 ers\, donors\, board members\, staff\, community partners\, and family mem
 bers. There will be food\, games for the kids\, entertainment\, music\, co
 mmunity and fun! We will be providing drinks and main dishes. Please bring
  a side or dessert to share.\n\nWe will also be hosting a special\, in-per
 son General Discussion Meeting directly before the Annual Adoption Network
  Cleveland Cookout. It is an opportunity for individuals in the Cleveland 
 area to come together in person and participate in a meeting. Please note 
 that this meeting is for adults only. Childcare will be provided during th
 e meeting for children ages 2+. Please indicate during registration if you
  need childcare. Also\, please bring a lawn chair which you can use for th
 e meeting.  We ask that you register separately for the General Discussion
  Meeting: https://www.adoptionnetwork.org/news-events/our-calendar.html/ev
 ent/2026/05/30/general-discussion-meeting-in-person-at-cookout-/555814
DTSTART;TZID=America/New_York:20260530T140000
DTEND;TZID=America/New_York:20260530T170000
LOCATION:Red Oak Shelter\, Garfield Park Reservation of the Cleveland Metro
 parks\, Garfield Heights\, OH 44125 US
SUMMARY:Annual Adoption Network Cleveland Cookout
END:VEVENT
END:VCALENDAR
