BEGIN:VCALENDAR
VERSION:2.0
PRODID:-//www.adoptionnetwork.org//NONSGML kigkonsult.se iCalcreator 2.30.1
 0//
CALSCALE:GREGORIAN
METHOD:PUBLISH
UID:0be15e80-dd56-472c-8e36-3c5835867196
X-WR-CALDESC:Meeting Information\nDan and Amy will facilitate this special\
 , in-person meeting will be held directly before the Annual Adoption Netwo
 rk Cleveland Cookout. It is an opportunity for individuals in the Clevelan
 d area to come together in person and participate in a meeting. Please not
 e that this meeting is for adults only. Childcare will be provided during 
 the meeting for children ages 2+. Please indicate during registration if y
 ou need childcare. \n\n**Please bring a lawn chair which you can use for t
 he meeting. **\n\nYou (and your family) are encouraged to stay for the coo
 kout after the meeting! Please register separately for the cookout portion
  of the event here: https://www.adoptionnetwork.org/news-events/our-calend
 ar.html/event/2026/05/30/annual-adoption-network-cleveland-cookout-/555815
 .\n\nAbout General Discussion Meetings \nThese gatherings provide a safe p
 lace where people can share their feelings and experiences\, get support f
 rom their peers\, and learn from others’ perspectives. The meetings have a
 n open discussion format and are attended by anyone with a connection to a
 doption or foster care\, including adult adoptees\, birth parents\, siblin
 gs\, and adoptive parents\, those that have experienced foster or kinship 
 care\, or DNA discoveries such as misattributed parentage or donor concept
 ion. Professionals are also welcome to come and learn from the shared pers
 pectives of the constellation members.
X-WR-RELCALID:1b678a4eff7ade7de48ccccad28dd737
X-WR-TIMEZONE:America/New_York
BEGIN:VTIMEZONE
TZID:America/New_York
BEGIN:STANDARD
TZNAME:EST
DTSTART:20251102T020000
TZOFFSETFROM:-0400
TZOFFSETTO:-0500
RDATE:20261101T020000
RDATE:20271107T020000
END:STANDARD
BEGIN:DAYLIGHT
TZNAME:EDT
DTSTART:20260308T020000
TZOFFSETFROM:-0500
TZOFFSETTO:-0400
RDATE:20270314T020000
END:DAYLIGHT
END:VTIMEZONE
BEGIN:VEVENT
UID:4ef3581c-a52c-412d-acb3-980c7f7d7cd7
DTSTAMP:20260420T195810Z
DESCRIPTION:Meeting Information\nDan and Amy will facilitate this special\,
  in-person meeting will be held directly before the Annual Adoption Networ
 k Cleveland Cookout. It is an opportunity for individuals in the Cleveland
  area to come together in person and participate in a meeting. Please note
  that this meeting is for adults only. Childcare will be provided during t
 he meeting for children ages 2+. Please indicate during registration if yo
 u need childcare. \n\n**Please bring a lawn chair which you can use for th
 e meeting. **\n\nYou (and your family) are encouraged to stay for the cook
 out after the meeting! Please register separately for the cookout portion 
 of the event here: https://www.adoptionnetwork.org/news-events/our-calenda
 r.html/event/2026/05/30/annual-adoption-network-cleveland-cookout-/555815.
 \n\nAbout General Discussion Meetings \nThese gatherings provide a safe pl
 ace where people can share their feelings and experiences\, get support fr
 om their peers\, and learn from others’ perspectives. The meetings have an
  open discussion format and are attended by anyone with a connection to ad
 option or foster care\, including adult adoptees\, birth parents\, sibling
 s\, and adoptive parents\, those that have experienced foster or kinship c
 are\, or DNA discoveries such as misattributed parentage or donor concepti
 on. Professionals are also welcome to come and learn from the shared persp
 ectives of the constellation members.
DTSTART;TZID=America/New_York:20260530T120000
DTEND;TZID=America/New_York:20260530T140000
LOCATION:Red Oak Shelter\, Garfield Park Reservation of the Cleveland Metro
 parks\, Garfield Heights\, OH 44125 US
SUMMARY:General Discussion Meeting *In-person at Cookout
END:VEVENT
END:VCALENDAR
